BEGIN:VCALENDAR
VERSION:2.0
PRODID:-//Children&#039;s Services Council of Broward County - ECPv6.0.6.2//NONSGML v1.0//EN
CALSCALE:GREGORIAN
METHOD:PUBLISH
X-ORIGINAL-URL:https://cscbroward.sgssys.info
X-WR-CALDESC:Events for Children&#039;s Services Council of Broward County
REFRESH-INTERVAL;VALUE=DURATION:PT1H
X-Robots-Tag:noindex
X-PUBLISHED-TTL:PT1H
BEGIN:VTIMEZONE
TZID:America/Chicago
BEGIN:DAYLIGHT
TZOFFSETFROM:-0600
TZOFFSETTO:-0500
TZNAME:CDT
DTSTART:20250309T080000
END:DAYLIGHT
BEGIN:STANDARD
TZOFFSETFROM:-0500
TZOFFSETTO:-0600
TZNAME:CST
DTSTART:20251102T070000
END:STANDARD
END:VTIMEZONE
BEGIN:VEVENT
DTSTART;TZID=America/Chicago:20251105T120000
DTEND;TZID=America/Chicago:20251105T133000
DTSTAMP:20260420T141901
CREATED:20250903T130020Z
LAST-MODIFIED:20250903T130032Z
UID:10941-1762344000-1762349400@cscbroward.sgssys.info
SUMMARY:Coordinating Council of Broward County Monthly Meeting
DESCRIPTION:The Coordinating Council of Broward County (CCB) meets on the first month of each month at Noon. Two Members of the Children’s Services Council of Broward County (CSC) are also Members of the CCB — Nan Rich and Paula Thaqi. There is a possibility that topics may be discussed that might come before the CSC at some point.
URL:https://cscbroward.sgssys.info/event/coordinating-council-of-broward-county-monthly-meeting-3/
LOCATION:Zoom
CATEGORIES:Events
END:VEVENT
BEGIN:VEVENT
DTSTART;TZID=America/Chicago:20251106T130000
DTEND;TZID=America/Chicago:20251106T150000
DTSTAMP:20260420T141901
CREATED:20251103T160146Z
LAST-MODIFIED:20251103T160146Z
UID:11253-1762434000-1762441200@cscbroward.sgssys.info
SUMMARY:Agency Capacity Building Committee Meeting
DESCRIPTION:Three CSC Members serve on the Agency Capacity Building Committee: Jeff Wood\, Julia Musella\, and Alyssa Foganholi \nZoom
URL:https://cscbroward.sgssys.info/event/agency-capacity-building-committee-meeting-8/
LOCATION:Zoom
CATEGORIES:Events
END:VEVENT
BEGIN:VEVENT
DTSTART;TZID=America/Chicago:20251107T084500
DTEND;TZID=America/Chicago:20251107T103000
DTSTAMP:20260420T141901
CREATED:20250102T191510Z
LAST-MODIFIED:20250102T191510Z
UID:10185-1762505100-1762511400@cscbroward.sgssys.info
SUMMARY:Children & Families Leadership Association (CFLA) Monthly Meeting
DESCRIPTION:
URL:https://cscbroward.sgssys.info/event/children-families-leadership-association-cfla-monthly-meeting-25/
LOCATION:Zoom
CATEGORIES:Events
END:VEVENT
END:VCALENDAR