BEGIN:VCALENDAR
VERSION:2.0
PRODID:-//Children&#039;s Services Council of Broward County - ECPv6.0.6.2//NONSGML v1.0//EN
CALSCALE:GREGORIAN
METHOD:PUBLISH
X-WR-CALNAME:Children&#039;s Services Council of Broward County
X-ORIGINAL-URL:https://cscbroward.sgssys.info
X-WR-CALDESC:Events for Children&#039;s Services Council of Broward County
REFRESH-INTERVAL;VALUE=DURATION:PT1H
X-Robots-Tag:noindex
X-PUBLISHED-TTL:PT1H
BEGIN:VTIMEZONE
TZID:America/Chicago
BEGIN:DAYLIGHT
TZOFFSETFROM:-0600
TZOFFSETTO:-0500
TZNAME:CDT
DTSTART:20230312T080000
END:DAYLIGHT
BEGIN:STANDARD
TZOFFSETFROM:-0500
TZOFFSETTO:-0600
TZNAME:CST
DTSTART:20231105T070000
END:STANDARD
BEGIN:DAYLIGHT
TZOFFSETFROM:-0600
TZOFFSETTO:-0500
TZNAME:CDT
DTSTART:20240310T080000
END:DAYLIGHT
BEGIN:STANDARD
TZOFFSETFROM:-0500
TZOFFSETTO:-0600
TZNAME:CST
DTSTART:20241103T070000
END:STANDARD
END:VTIMEZONE
BEGIN:VEVENT
DTSTART;TZID=America/Chicago:20240620T093000
DTEND;TZID=America/Chicago:20240620T120000
DTSTAMP:20260420T102617
CREATED:20240122T192415Z
LAST-MODIFIED:20240620T011901Z
UID:8839-1718875800-1718884800@cscbroward.sgssys.info
SUMMARY:Monthly Meeting of the Children's Services Council of Broward County
DESCRIPTION:June 20\, 2024\, Council Packet and Agenda \nJoin Zoom meeting here.
URL:https://cscbroward.sgssys.info/event/monthly-meeting-of-the-childrens-services-council-of-broward-county-5/
LOCATION:CSC Office and Zoom\, 6600 W Commercial Blvd.\, Fort Lauderdale\, FL\, 33319\, United States
CATEGORIES:Council Meeting
END:VEVENT
BEGIN:VEVENT
DTSTART;TZID=America/Chicago:20240516T093000
DTEND;TZID=America/Chicago:20240516T160000
DTSTAMP:20260420T102617
CREATED:20240122T192316Z
LAST-MODIFIED:20240620T220934Z
UID:8837-1715851800-1715875200@cscbroward.sgssys.info
SUMMARY:CSC Monthly Meeting & Budget Retreat
DESCRIPTION:Zoom Registration Link \nMay 2024 Agenda and Meeting Information Packet \nMay 2024 Council Meeting Minutes \n 
URL:https://cscbroward.sgssys.info/event/monthly-meeting-of-the-childrens-services-council-of-broward-county-4/
LOCATION:CSC Office and Zoom\, 6600 W Commercial Blvd.\, Fort Lauderdale\, FL\, 33319\, United States
CATEGORIES:Council Meeting
END:VEVENT
BEGIN:VEVENT
DTSTART;TZID=America/Chicago:20240418T093000
DTEND;TZID=America/Chicago:20240418T120000
DTSTAMP:20260420T102617
CREATED:20240122T192103Z
LAST-MODIFIED:20240620T221830Z
UID:8835-1713432600-1713441600@cscbroward.sgssys.info
SUMMARY:Monthly Meeting of the Children's Services Council of Broward County
DESCRIPTION:Zoom Registration Link \nApril 2024 Council Meeting Agenda/Information Packet \nApril 2024 Council Meeting Minutes
URL:https://cscbroward.sgssys.info/event/monthly-meeting-of-the-childrens-services-council-of-broward-county-3/
LOCATION:CSC Office and Zoom\, 6600 W Commercial Blvd.\, Fort Lauderdale\, FL\, 33319\, United States
CATEGORIES:Council Meeting
END:VEVENT
BEGIN:VEVENT
DTSTART;TZID=America/Chicago:20240321T093000
DTEND;TZID=America/Chicago:20240321T120000
DTSTAMP:20260420T102617
CREATED:20240122T191955Z
LAST-MODIFIED:20240418T172713Z
UID:8833-1711013400-1711022400@cscbroward.sgssys.info
SUMMARY:Monthly Meeting of the Children's Services Council of Broward County
DESCRIPTION:March 21 2024 Agenda & Meeting Information Packet \nZoom Registration Link \nCouncil Meeting Minutes March 2024
URL:https://cscbroward.sgssys.info/event/monthly-meeting-of-the-childrens-services-council-of-broward-county-2/
LOCATION:CSC Office and Zoom\, 6600 W Commercial Blvd.\, Fort Lauderdale\, FL\, 33319\, United States
CATEGORIES:Council Meeting
END:VEVENT
BEGIN:VEVENT
DTSTART;TZID=America/Chicago:20240215T093000
DTEND;TZID=America/Chicago:20240215T120000
DTSTAMP:20260420T102617
CREATED:20240122T191836Z
LAST-MODIFIED:20240418T172438Z
UID:8831-1707989400-1707998400@cscbroward.sgssys.info
SUMMARY:Monthly Meeting of the Children's Services Council of Broward County
DESCRIPTION:_2024 February Council Packet \nZoom Registration Link \nCouncil Meeting Minutes February 2024
URL:https://cscbroward.sgssys.info/event/monthly-meeting-of-the-childrens-services-council-of-broward-county/
LOCATION:CSC Office and Zoom\, 6600 W Commercial Blvd.\, Fort Lauderdale\, FL\, 33319\, United States
CATEGORIES:Council Meeting
END:VEVENT
BEGIN:VEVENT
DTSTART;TZID=America/Chicago:20240118T093000
DTEND;TZID=America/Chicago:20240118T120000
DTSTAMP:20260420T102617
CREATED:20240109T191432Z
LAST-MODIFIED:20240215T205357Z
UID:8756-1705570200-1705579200@cscbroward.sgssys.info
SUMMARY:CSC Monthly Council Meeting
DESCRIPTION:Zoom \nAgenda & _2024 January Council Packet \nCouncil Minutes Jan 18 2024 \n 
URL:https://cscbroward.sgssys.info/event/csc-monthly-council-meeting/
LOCATION:FL
CATEGORIES:Council Meeting
END:VEVENT
BEGIN:VEVENT
DTSTART;TZID=America/Chicago:20231208T093000
DTEND;TZID=America/Chicago:20231208T120000
DTSTAMP:20260420T102617
CREATED:20231121T182427Z
LAST-MODIFIED:20240215T205109Z
UID:8580-1702027800-1702036800@cscbroward.sgssys.info
SUMMARY:CSC Monthly Council Meeting (Rescheduled from November 16\, 2023)
DESCRIPTION:Due to flooding and inclement weather\, the CSC monthly meeting scheduled on November 16\, 2023\, was postponed until December 8\, 2023\, at 9:30am. \nZoom Link \nRevised 2023 November Council Packet \nCouncil Minutes December 8 2023 \nThe above packet link is an updated CSC November meeting information packet for the November 16th meeting that was postponed until December 8th.  This updated packet contains revised Budget Amendments and Preliminary Financial Statements for Fiscal Year Ending September 30th\, which is Item X.c. (Tab R) in the meeting information packet. Everything else remains the same. \nIn the revised Financials\, we reclassified certain prior year (FY22) revenue and expenditures\, resulting in an increase of $1\,275.94 in total revenues and a corresponding increase of $1\,275.94 in total expenditures. Total revenues were previously stated as $113\,137\,840.10\, but now $113\,139\,116.04. Total expenditures\, previously stated as $105\,073\,671.77\, is now $105\,074\,947.741.   The net effect of the reclassifications is zero. Therefore\, there was no change to the overall fund balance\, i.e.\, no difference to the bottom line.
URL:https://cscbroward.sgssys.info/event/csc-monthly-council-meeting-rescheduled-from-november-16-2023/
LOCATION:CSC Office and Zoom\, 6600 W Commercial Blvd.\, Fort Lauderdale\, FL\, 33319\, United States
CATEGORIES:Council Meeting
END:VEVENT
BEGIN:VEVENT
DTSTART;TZID=America/Chicago:20231116T093000
DTEND;TZID=America/Chicago:20231116T120000
DTSTAMP:20260420T102617
CREATED:20221223T113555Z
LAST-MODIFIED:20231121T181425Z
UID:6505-1700127000-1700136000@cscbroward.sgssys.info
SUMMARY:RESCHEDULED to Dec 8th-- Council Meeting -- RESCHEDULED to Dec 8th
DESCRIPTION:Due to flooding and inclement weather\, the CSC monthly meeting originally scheduled for November 16th was postponed. That meeting will now take place on December 8th\, at 9:30am\, at the CSC Office and via Zoom. \nThe CSC monthly meeting originally scheduled for November 16 is in the process of being rescheduled in early December. There will be no meeting on November 16\, 2023. \n2023 November Council Agenda Packet \n 
URL:https://cscbroward.sgssys.info/event/council-meeting-9/
LOCATION:CSC Office and Zoom\, 6600 W Commercial Blvd.\, Fort Lauderdale\, FL\, 33319\, United States
CATEGORIES:Council Meeting
END:VEVENT
BEGIN:VEVENT
DTSTART;TZID=America/Chicago:20231019T093000
DTEND;TZID=America/Chicago:20231019T120000
DTSTAMP:20260420T102617
CREATED:20221223T113255Z
LAST-MODIFIED:20240215T204948Z
UID:6503-1697707800-1697716800@cscbroward.sgssys.info
SUMMARY:Council Meeting
DESCRIPTION:October 2023 Council Agenda Packet \nZoom Registration Link for October 19\, 2023\, Council Meeting \nCouncil Minutes October 19 2023
URL:https://cscbroward.sgssys.info/event/council-meeting-8/
LOCATION:CSC Office and Zoom\, 6600 W Commercial Blvd.\, Fort Lauderdale\, FL\, 33319\, United States
CATEGORIES:Council Meeting
END:VEVENT
BEGIN:VEVENT
DTSTART;TZID=America/Chicago:20230921T160000
DTEND;TZID=America/Chicago:20230921T160000
DTSTAMP:20260420T102617
CREATED:20221223T113049Z
LAST-MODIFIED:20240215T204758Z
UID:6499-1695312000-1695312000@cscbroward.sgssys.info
SUMMARY:Council Meeting (4pm) & Final TRIM Hearing (5:01pm)
DESCRIPTION:Zoom Link \nSeptember 2023 Council Packet \n2023 September 21 Agenda Addendum \n2023 September 21 TRIM Packet \nTRIM Minutes September 21\, 2023
URL:https://cscbroward.sgssys.info/event/tentative-council-meeting-2/
LOCATION:CSC Office and Zoom\, 6600 W Commercial Blvd.\, Fort Lauderdale\, FL\, 33319\, United States
CATEGORIES:Council Meeting
END:VEVENT
BEGIN:VEVENT
DTSTART;TZID=America/Chicago:20230911T170100
DTEND;TZID=America/Chicago:20230911T170100
DTSTAMP:20260420T102617
CREATED:20221223T112439Z
LAST-MODIFIED:20240215T204434Z
UID:6477-1694451660-1694451660@cscbroward.sgssys.info
SUMMARY:T.R.I.M. Public Hearing
DESCRIPTION:Zoom Registration Link \n2023 September 11 TRIM Packet \nTRIM Minutes September 11 2023
URL:https://cscbroward.sgssys.info/event/t-r-i-m-public-hearing/
LOCATION:CSC Office and Zoom\, 6600 W Commercial Blvd.\, Fort Lauderdale\, FL\, 33319\, United States
CATEGORIES:Council Meeting
END:VEVENT
BEGIN:VEVENT
DTSTART;TZID=America/Chicago:20230823T093000
DTEND;TZID=America/Chicago:20230823T120000
DTSTAMP:20260420T102617
CREATED:20230808T153547Z
LAST-MODIFIED:20240215T205229Z
UID:8162-1692783000-1692792000@cscbroward.sgssys.info
SUMMARY:Council Meeting
DESCRIPTION:Zoom Registration Link \n2023 August Council Meeting Information Packet \nCouncil Minutes August 23 2023
URL:https://cscbroward.sgssys.info/event/council-meeting-3/
LOCATION:CSC Office and Zoom\, 6600 W Commercial Blvd.\, Fort Lauderdale\, FL\, 33319\, United States
CATEGORIES:Council Meeting
END:VEVENT
BEGIN:VEVENT
DTSTART;TZID=America/Chicago:20230615T093000
DTEND;TZID=America/Chicago:20230615T120000
DTSTAMP:20260420T102617
CREATED:20221223T112102Z
LAST-MODIFIED:20231222T160316Z
UID:6463-1686821400-1686830400@cscbroward.sgssys.info
SUMMARY:Council Meeting
DESCRIPTION:Click here to register for Zoom meeting.\nAgenda/Meeting Information Packet:  _2023 June Council Packet \nAgenda Addendum/Information Packet:  _2023 June Council Addendum Packet \nCouncil Meeting Minutes \n 
URL:https://cscbroward.sgssys.info/event/council-meeting-6/
LOCATION:CSC Office and Zoom\, 6600 W Commercial Blvd.\, Fort Lauderdale\, FL\, 33319\, United States
CATEGORIES:Council Meeting
END:VEVENT
BEGIN:VEVENT
DTSTART;TZID=America/Chicago:20230518T093000
DTEND;TZID=America/Chicago:20230518T160000
DTSTAMP:20260420T102617
CREATED:20221223T112006Z
LAST-MODIFIED:20230724T154018Z
UID:6454-1684402200-1684425600@cscbroward.sgssys.info
SUMMARY:Council Meeting/Budget Workshop
DESCRIPTION:Join Zoom meeting here. \nMay 2023 Council Packet \nMay 2023 Council Meeting/Budget Retreat Minutes \n  \n 
URL:https://cscbroward.sgssys.info/event/council-meeting-budget-workshop/
LOCATION:CSC Office and Zoom\, 6600 W Commercial Blvd.\, Fort Lauderdale\, FL\, 33319\, United States
CATEGORIES:Council Meeting
END:VEVENT
BEGIN:VEVENT
DTSTART;TZID=America/Chicago:20230420T093000
DTEND;TZID=America/Chicago:20230420T093000
DTSTAMP:20260420T102617
CREATED:20221223T111846Z
LAST-MODIFIED:20231012T025348Z
UID:6444-1681983000-1681983000@cscbroward.sgssys.info
SUMMARY:Council Meeting
DESCRIPTION:View Council Meeting Packet – April 2023 \nRegister here to watch the Council Meeting. \nApril 2023 Council Minutes
URL:https://cscbroward.sgssys.info/event/council-meeting-5/
LOCATION:CSC Office and Zoom\, 6600 W Commercial Blvd.\, Fort Lauderdale\, FL\, 33319\, United States
CATEGORIES:Council Meeting
END:VEVENT
BEGIN:VEVENT
DTSTART;TZID=America/Chicago:20230316T093000
DTEND;TZID=America/Chicago:20230316T120000
DTSTAMP:20260420T102617
CREATED:20221223T111801Z
LAST-MODIFIED:20230724T151440Z
UID:6439-1678959000-1678968000@cscbroward.sgssys.info
SUMMARY:Council Meeting
DESCRIPTION:2023 March Council Packet \nClick here for Zoom link. \nMarch 2023 Council Minutes
URL:https://cscbroward.sgssys.info/event/council-meeting-4/
LOCATION:FL
CATEGORIES:Council Meeting
END:VEVENT
BEGIN:VEVENT
DTSTART;TZID=America/Chicago:20230216T093000
DTEND;TZID=America/Chicago:20230216T093000
DTSTAMP:20260420T102617
CREATED:20221223T111448Z
LAST-MODIFIED:20231012T025319Z
UID:6418-1676539800-1676539800@cscbroward.sgssys.info
SUMMARY:Council Meeting
DESCRIPTION:February 2023 Council Packet\nClick here for Zoom link.\nFebruary 2023 Meeting Minutes
URL:https://cscbroward.sgssys.info/event/council-meeting-2/
LOCATION:CSC Office and Zoom\, 6600 W Commercial Blvd.\, Fort Lauderdale\, FL\, 33319\, United States
CATEGORIES:Council Meeting
END:VEVENT
BEGIN:VEVENT
DTSTART;TZID=America/Chicago:20230119T093000
DTEND;TZID=America/Chicago:20230119T093000
DTSTAMP:20260420T102617
CREATED:20221223T110819Z
LAST-MODIFIED:20231012T025337Z
UID:6406-1674120600-1674120600@cscbroward.sgssys.info
SUMMARY:Council Meeting
DESCRIPTION:January 2023 Council Packet\nJoin Zoom Webinar here.\nJanuary 2023 Council Minutes\n 
URL:https://cscbroward.sgssys.info/event/council-meeting/
LOCATION:CSC Office and Zoom\, 6600 W Commercial Blvd.\, Fort Lauderdale\, FL\, 33319\, United States
CATEGORIES:Council Meeting
END:VEVENT
END:VCALENDAR