BEGIN:VCALENDAR
VERSION:2.0
PRODID:-//Children&#039;s Services Council of Broward County - ECPv6.0.6.2//NONSGML v1.0//EN
CALSCALE:GREGORIAN
METHOD:PUBLISH
X-WR-CALNAME:Children&#039;s Services Council of Broward County
X-ORIGINAL-URL:https://cscbroward.sgssys.info
X-WR-CALDESC:Events for Children&#039;s Services Council of Broward County
REFRESH-INTERVAL;VALUE=DURATION:PT1H
X-Robots-Tag:noindex
X-PUBLISHED-TTL:PT1H
BEGIN:VTIMEZONE
TZID:America/Chicago
BEGIN:DAYLIGHT
TZOFFSETFROM:-0600
TZOFFSETTO:-0500
TZNAME:CDT
DTSTART:20260308T080000
END:DAYLIGHT
BEGIN:STANDARD
TZOFFSETFROM:-0500
TZOFFSETTO:-0600
TZNAME:CST
DTSTART:20261101T070000
END:STANDARD
END:VTIMEZONE
BEGIN:VEVENT
DTSTART;TZID=America/Chicago:20260917T160000
DTEND;TZID=America/Chicago:20260917T173000
DTSTAMP:20260420T164852
CREATED:20260106T200425Z
LAST-MODIFIED:20260106T200425Z
UID:11478-1789660800-1789666200@cscbroward.sgssys.info
SUMMARY:Children's Services Council of Broward County Monthly Meeting & Final TRIM Hearing
DESCRIPTION:Monthly meeting starts at 4:00pm. \nThe Final TRuth In Millage (TRIM) public hearing on budget and millage rate starts at 5:01pm. May be rescheduled if it conflicts with School Board or Broward County TRIM Hearing. Check back for any updates. \nHeld at the CSC Office (6600 W. Commercial Blvd.\, Lauderhill\, FL)\, with access also via Zoom.
URL:https://cscbroward.sgssys.info/event/childrens-services-council-of-broward-county-monthly-meeting-final-trim-hearing/
LOCATION:CSC Office and Zoom\, 6600 W Commercial Blvd.\, Fort Lauderdale\, FL\, 33319\, United States
CATEGORIES:Council Meeting
END:VEVENT
END:VCALENDAR