BEGIN:VCALENDAR
VERSION:2.0
PRODID:-//Children&#039;s Services Council of Broward County - ECPv6.0.6.2//NONSGML v1.0//EN
CALSCALE:GREGORIAN
METHOD:PUBLISH
X-WR-CALNAME:Children&#039;s Services Council of Broward County
X-ORIGINAL-URL:https://cscbroward.sgssys.info
X-WR-CALDESC:Events for Children&#039;s Services Council of Broward County
REFRESH-INTERVAL;VALUE=DURATION:PT1H
X-Robots-Tag:noindex
X-PUBLISHED-TTL:PT1H
BEGIN:VTIMEZONE
TZID:America/Chicago
BEGIN:DAYLIGHT
TZOFFSETFROM:-0600
TZOFFSETTO:-0500
TZNAME:CDT
DTSTART:20260308T080000
END:DAYLIGHT
BEGIN:STANDARD
TZOFFSETFROM:-0500
TZOFFSETTO:-0600
TZNAME:CST
DTSTART:20261101T070000
END:STANDARD
END:VTIMEZONE
BEGIN:VEVENT
DTSTART;TZID=America/Chicago:20260716T093000
DTEND;TZID=America/Chicago:20260716T120000
DTSTAMP:20260420T130222
CREATED:20260106T195511Z
LAST-MODIFIED:20260106T195511Z
UID:11472-1784194200-1784203200@cscbroward.sgssys.info
SUMMARY:(Tentative) Children's Services Council of Broward County Monthly Meeting (Tentative)
DESCRIPTION:Monthly Council meetings are held at the CSC Office (6600 W. Commercial Blvd.\, Lauderhill\, FL)\, with access also via Zoom. The July meeting is tentative and may be cancelled. Please check back for any updates.
URL:https://cscbroward.sgssys.info/event/tentative-childrens-services-council-of-broward-county-monthly-meeting-tentative/
LOCATION:CSC Office and Zoom\, 6600 W Commercial Blvd.\, Fort Lauderdale\, FL\, 33319\, United States
CATEGORIES:Council Meeting
END:VEVENT
END:VCALENDAR